BEGIN:VCALENDAR
VERSION:2.0
PRODID:-//Tukios.com/
BEGIN:VEVENT
UID:aaad59d1-b1fc-4eba-b5b4-1bcbed51d9fe@www.wilkinsonfuneralservice.com
DTSTAMP:20260421T221602Z
DTSTART:20260425T203000Z
DTEND:20260425T213000Z
SUMMARY:Graveside Service
DESCRIPTION:
URL:https://www.wilkinsonfuneralservice.com/obituaries/patsy-scovel
LOCATION:Mooreland Cemetery SH 50B  Mooreland OK 73852
GEO:36.4495719;-99.2082202
END:VEVENT
END:VCALENDAR